BEGIN:VCALENDAR
VERSION:2.0
METHOD:PUBLISH
CALSCALE:GREGORIAN
PRODID:-//Refresh Web Development//Helios Calendar//EN
X-FROM-URL:https://www.bayareascience.org/calendar/index.php?com=details&eID=32725
X-WR-RELCALID:BayAreaScience.org Science at Cal - Outer Spaceâ€™s Hottest and Brightest Objects - Livestream 20220915T120000
X-WR-TIMEZONE:America/New_York
X-WR-CALNAME:BayAreaScience.org
BEGIN:VEVENT
URL;VALUE=URI:https://www.bayareascience.org/calendar/index.php?com=detail&eID=32725
DTSTART:20220915T120000
DTEND:20220915T133000
SUMMARY:Science at Cal - Outer Spaceâ€™s Hottest and Brightest Objects - Livestream
DESCRIPTION:At this monthâ€™s Midday Science Cafe\, weâ€™ll take a star-studded intergalactic journey to see some of the universeâ€™s hottest and brightest objects. First stop: quasars. Berkeley...\n______________________________\nThis Event Downloaded From a Helios Calendar Powered Site
LOCATION:UC Berkeley -  \, \, CA  
CATEGORIES:BayAreaScience.org Events
PRIORITY:0
TRANSP:TRANSPARENT
END:VEVENT
END:VCALENDAR