BEGIN:VCALENDAR
VERSION:2.0
METHOD:PUBLISH
CALSCALE:GREGORIAN
PRODID:-//Refresh Web Development//Helios Calendar//EN
X-FROM-URL:https://www.bayareascience.org/calendar/index.php?com=details&eID=32733
X-WR-RELCALID:BayAreaScience.org Algae, Genetics, and iNaturalist - Livestream 20220915T180000
X-WR-TIMEZONE:America/New_York
X-WR-CALNAME:BayAreaScience.org
BEGIN:VEVENT
URL;VALUE=URI:https://www.bayareascience.org/calendar/index.php?com=detail&eID=32733
DTSTART:20220915T180000
DTEND:20220915T180000
SUMMARY:Algae\, Genetics\, and iNaturalist - Livestream
DESCRIPTION:Algea Bloom updates\, Genetic Sequencing updates\, and a presentation on how to make observations in iNaturalist.Speaker: Damon TigheSee weblink for Zoom information\n______________________________\nThis Event Downloaded From a Helios Calendar Powered Site
LOCATION:Sonoma County Mycological Association -  \, \, CA  
CATEGORIES:BayAreaScience.org Events
PRIORITY:0
TRANSP:TRANSPARENT
END:VEVENT
END:VCALENDAR