BEGIN:VCALENDAR
VERSION:2.0
METHOD:PUBLISH
CALSCALE:GREGORIAN
PRODID:-//Refresh Web Development//Helios Calendar//EN
X-FROM-URL:https://www.bayareascience.org/calendar/index.php?com=details&eID=32734
X-WR-RELCALID:BayAreaScience.org Wonderfest: The Mathematics of Language - Rescheduled 20220927T190000
X-WR-TIMEZONE:America/New_York
X-WR-CALNAME:BayAreaScience.org
BEGIN:VEVENT
URL;VALUE=URI:https://www.bayareascience.org/calendar/index.php?com=detail&eID=32734
DTSTART:20220927T190000
DTEND:20220927T203000
SUMMARY:Wonderfest: The Mathematics of Language - Rescheduled
DESCRIPTION:If your native language (Irish\, Igbo\, Ilocano\, . . .) is threatened by competition from another language (likely English!)\, and if preserving that language is important\, what options do you have?...\n______________________________\nThis Event Downloaded From a Helios Calendar Powered Site
LOCATION:Hopmonk Tavern - Session Room 224 Vintage Way\, Novato\, CA  94945
CATEGORIES:BayAreaScience.org Events
PRIORITY:0
TRANSP:TRANSPARENT
END:VEVENT
END:VCALENDAR