BEGIN:VCALENDAR
VERSION:2.0
METHOD:PUBLISH
CALSCALE:GREGORIAN
PRODID:-//Refresh Web Development//Helios Calendar//EN
X-FROM-URL:https://www.bayareascience.org/calendar/index.php?com=details&eID=32741
X-WR-RELCALID:BayAreaScience.org Leveraging old monitoring programs for new insights into San Francisco Estuary dynamics - Livestream 20221005T153000
X-WR-TIMEZONE:America/New_York
X-WR-CALNAME:BayAreaScience.org
BEGIN:VEVENT
URL;VALUE=URI:https://www.bayareascience.org/calendar/index.php?com=detail&eID=32741
DTSTART:20221005T153000
DTEND:20221005T153000
SUMMARY:Leveraging old monitoring programs for new insights into San Francisco Estuary dynamics - Livestream
DESCRIPTION:Speaker: Sam Bashevkin\, Delta Stweardship CouncilRegister at weblink to receive Zoom information\n______________________________\nThis Event Downloaded From a Helios Calendar Powered Site
LOCATION:Estuary & Ocean Science Center -  \, \, CA  
CATEGORIES:BayAreaScience.org Events
PRIORITY:0
TRANSP:TRANSPARENT
END:VEVENT
END:VCALENDAR