BEGIN:VCALENDAR
VERSION:2.0
METHOD:PUBLISH
CALSCALE:GREGORIAN
PRODID:-//Refresh Web Development//Helios Calendar//EN
X-FROM-URL:https://www.bayareascience.org/calendar/index.php?com=details&eID=32743
X-WR-RELCALID:BayAreaScience.org Shedding light on symbiosis: lessons from a bioluminescent coral reef fish 20221102T153000
X-WR-TIMEZONE:America/New_York
X-WR-CALNAME:BayAreaScience.org
BEGIN:VEVENT
URL;VALUE=URI:https://www.bayareascience.org/calendar/index.php?com=detail&eID=32743
DTSTART:20221102T153000
DTEND:20221102T153000
SUMMARY:Shedding light on symbiosis: lessons from a bioluminescent coral reef fish
DESCRIPTION:Virtually all organisms depend on symbiotic interactions with bacteria for their success. Most bacterial symbionts are acquired horizontally from the environment\, including those in highly dynamic...\n______________________________\nThis Event Downloaded From a Helios Calendar Powered Site
LOCATION:Estuary & Ocean Science Center - 3150 Paradise Drive \, Tiburon\, CA  94920
CATEGORIES:BayAreaScience.org Events
PRIORITY:0
TRANSP:TRANSPARENT
END:VEVENT
END:VCALENDAR