BEGIN:VCALENDAR
VERSION:2.0
METHOD:PUBLISH
CALSCALE:GREGORIAN
PRODID:-//Refresh Web Development//Helios Calendar//EN
X-FROM-URL:https://www.bayareascience.org/calendar/index.php?com=details&eID=32753
X-WR-RELCALID:BayAreaScience.org Marin Green Home Tour - Livestream 20221019T180000
X-WR-TIMEZONE:America/New_York
X-WR-CALNAME:BayAreaScience.org
BEGIN:VEVENT
URL;VALUE=URI:https://www.bayareascience.org/calendar/index.php?com=detail&eID=32753
DTSTART:20221019T180000
DTEND:20221019T200000
SUMMARY:Marin Green Home Tour - Livestream
DESCRIPTION:Join this free\, two-day virtual tour of 10 homes in Marin County and see what Marin residents are doing to combat climate change\, improve air quality\, generate clean energy\, save water\, and move...\n______________________________\nThis Event Downloaded From a Helios Calendar Powered Site
LOCATION:Marin Green Home Tour -  \, \, CA  
CATEGORIES:BayAreaScience.org Events
PRIORITY:0
TRANSP:TRANSPARENT
END:VEVENT
END:VCALENDAR