BEGIN:VCALENDAR
VERSION:2.0
METHOD:PUBLISH
CALSCALE:GREGORIAN
PRODID:-//Refresh Web Development//Helios Calendar//EN
X-FROM-URL:https://www.bayareascience.org/calendar/index.php?com=details&eID=32761
X-WR-RELCALID:BayAreaScience.org From free electrons to bound electrons: attosecond science with X-ray free-electron lasers 20221025T153000
X-WR-TIMEZONE:America/New_York
X-WR-CALNAME:BayAreaScience.org
BEGIN:VEVENT
URL;VALUE=URI:https://www.bayareascience.org/calendar/index.php?com=detail&eID=32761
DTSTART:20221025T153000
DTEND:20221025T163000
SUMMARY:From free electrons to bound electrons: attosecond science with X-ray free-electron lasers
DESCRIPTION:X-ray free-electron lasers have recently broken the femtosecond barrier\, which separates the motion of nuclei from the much faster motion of electrons in molecules and solids. Evolving from a cutting-edge...\n______________________________\nThis Event Downloaded From a Helios Calendar Powered Site
LOCATION:Hewlett Teaching Center - 370 Jane Stanford Way\, Room 200 Stanford University\, Stanford\, CA  94305
CATEGORIES:BayAreaScience.org Events
PRIORITY:0
TRANSP:TRANSPARENT
END:VEVENT
END:VCALENDAR