BEGIN:VCALENDAR
VERSION:2.0
METHOD:PUBLISH
CALSCALE:GREGORIAN
PRODID:-//Refresh Web Development//Helios Calendar//EN
X-FROM-URL:https://www.bayareascience.org/calendar/index.php?com=details&eID=32763
X-WR-RELCALID:BayAreaScience.org Cosmic Explorer - a next-gen gravitational-wave observatory 20221129T153000
X-WR-TIMEZONE:America/New_York
X-WR-CALNAME:BayAreaScience.org
BEGIN:VEVENT
URL;VALUE=URI:https://www.bayareascience.org/calendar/index.php?com=detail&eID=32763
DTSTART:20221129T153000
DTEND:20221129T153000
SUMMARY:Cosmic Explorer - a next-gen gravitational-wave observatory
DESCRIPTION:With almost 100 gravitational-wave sources detected to-date\, and the first-generation facilities now over 20-years old\, there is growing momentum towards the next-generation of gravitational-wave...\n______________________________\nThis Event Downloaded From a Helios Calendar Powered Site
LOCATION:Hewlett Teaching Center - 370 Jane Stanford Way\, Room 200 Stanford University\, Stanford\, CA  94305
CATEGORIES:BayAreaScience.org Events
PRIORITY:0
TRANSP:TRANSPARENT
END:VEVENT
END:VCALENDAR