BEGIN:VCALENDAR
VERSION:2.0
METHOD:PUBLISH
CALSCALE:GREGORIAN
PRODID:-//Refresh Web Development//Helios Calendar//EN
X-FROM-URL:https://www.bayareascience.org/calendar/index.php?com=details&eID=32773
X-WR-RELCALID:BayAreaScience.org  JWST Directly Images First Exoplanets 20220915T143000
X-WR-TIMEZONE:America/New_York
X-WR-CALNAME:BayAreaScience.org
BEGIN:VEVENT
URL;VALUE=URI:https://www.bayareascience.org/calendar/index.php?com=detail&eID=32773
DTSTART:20220915T143000
DTEND:20220915T150000
SUMMARY: JWST Directly Images First Exoplanets
DESCRIPTION:The JWST's Early Release Science program is making a variety of observations during the first five months of science operations that will allow scientists to quickly...\n______________________________\nThis Event Downloaded From a Helios Calendar Powered Site
LOCATION:SETI Institute -  \, \, CA  
CATEGORIES:BayAreaScience.org Events
PRIORITY:0
TRANSP:TRANSPARENT
END:VEVENT
END:VCALENDAR