BEGIN:VCALENDAR
VERSION:2.0
METHOD:PUBLISH
CALSCALE:GREGORIAN
PRODID:-//Refresh Web Development//Helios Calendar//EN
X-FROM-URL:https://www.bayareascience.org/calendar/index.php?com=details&eID=32774
X-WR-RELCALID:BayAreaScience.org  DART: Can We Change an Asteroidâ€™s Course and Save Planet Earth? 20220926T143000
X-WR-TIMEZONE:America/New_York
X-WR-CALNAME:BayAreaScience.org
BEGIN:VEVENT
URL;VALUE=URI:https://www.bayareascience.org/calendar/index.php?com=detail&eID=32774
DTSTART:20220926T143000
DTEND:20220926T170000
SUMMARY: DART: Can We Change an Asteroidâ€™s Course and Save Planet Earth?
DESCRIPTION:NASAâ€™s Double Asteroid Redirection Test\, or DART\, is the worldâ€™s first full-scale planetary defense test\, demonstrating one method of asteroid deflection...\n______________________________\nThis Event Downloaded From a Helios Calendar Powered Site
LOCATION:SETI Institute -  \, \, CA  
CATEGORIES:BayAreaScience.org Events
PRIORITY:0
TRANSP:TRANSPARENT
END:VEVENT
END:VCALENDAR