BEGIN:VCALENDAR
VERSION:2.0
METHOD:PUBLISH
CALSCALE:GREGORIAN
PRODID:-//Refresh Web Development//Helios Calendar//EN
X-FROM-URL:https://www.bayareascience.org/calendar/index.php?com=details&eID=32776
X-WR-RELCALID:BayAreaScience.org The Evolution from Missing to Dark 20220916T193000
X-WR-TIMEZONE:America/New_York
X-WR-CALNAME:BayAreaScience.org
BEGIN:VEVENT
URL;VALUE=URI:https://www.bayareascience.org/calendar/index.php?com=detail&eID=32776
DTSTART:20220916T193000
DTEND:20220916T193000
SUMMARY:The Evolution from Missing to Dark
DESCRIPTION:A century ago\, the hot topic of the 1920's was the structure of the universe. Was the universe a single Galaxy or was the Milky Way just one of many galaxies? This was resolved by the late 20's...\n______________________________\nThis Event Downloaded From a Helios Calendar Powered Site
LOCATION:Tri-Valley Stargazers - 1893 N. Vasco Rd Unitarian Universalist Church\, Livermore\, CA  94551
CATEGORIES:BayAreaScience.org Events
PRIORITY:0
TRANSP:TRANSPARENT
END:VEVENT
END:VCALENDAR