BEGIN:VCALENDAR
VERSION:2.0
METHOD:PUBLISH
CALSCALE:GREGORIAN
PRODID:-//Refresh Web Development//Helios Calendar//EN
X-FROM-URL:https://www.bayareascience.org/calendar/index.php?com=details&eID=32777
X-WR-RELCALID:BayAreaScience.org Grounds for Science: Illuminating the Brain and Programming Viruses to Harvest Solar Energy 20221004T173000
X-WR-TIMEZONE:America/New_York
X-WR-CALNAME:BayAreaScience.org
BEGIN:VEVENT
URL;VALUE=URI:https://www.bayareascience.org/calendar/index.php?com=detail&eID=32777
DTSTART:20221004T173000
DTEND:20221004T183000
SUMMARY:Grounds for Science: Illuminating the Brain and Programming Viruses to Harvest Solar Energy
DESCRIPTION:Illuminating the Brain: How light\, color\, and a jellyfish protein help us study the mind  How do we study our own brains? What's going on in our neurons? A fluorescent...\n______________________________\nThis Event Downloaded From a Helios Calendar Powered Site
LOCATION:Cafenated Coffee Company - 2085 Vine St \, Berkeley\, CA  94709
CATEGORIES:BayAreaScience.org Events
PRIORITY:0
TRANSP:TRANSPARENT
END:VEVENT
END:VCALENDAR