BEGIN:VCALENDAR
VERSION:2.0
METHOD:PUBLISH
CALSCALE:GREGORIAN
PRODID:-//Refresh Web Development//Helios Calendar//EN
X-FROM-URL:https://www.bayareascience.org/calendar/index.php?com=details&eID=32778
X-WR-RELCALID:BayAreaScience.org October Bird Walk - FULL 20221011T093000
X-WR-TIMEZONE:America/New_York
X-WR-CALNAME:BayAreaScience.org
BEGIN:VEVENT
URL;VALUE=URI:https://www.bayareascience.org/calendar/index.php?com=detail&eID=32778
DTSTART:20221011T093000
DTEND:20221011T110000
SUMMARY:October Bird Walk - FULL
DESCRIPTION:Join Chris Carmichael in search of both resident and migrant birds in the Garden's many bird friendly micro habitats. Chris will be joined by Susan Greef\, Garden Member and avid birder. Beginning...\n______________________________\nThis Event Downloaded From a Helios Calendar Powered Site
LOCATION:UC Botanical Garden - 200 Centennial Drive \, Berkeley\, CA  94720
CATEGORIES:BayAreaScience.org Events
PRIORITY:0
TRANSP:TRANSPARENT
END:VEVENT
END:VCALENDAR