BEGIN:VCALENDAR
VERSION:2.0
METHOD:PUBLISH
CALSCALE:GREGORIAN
PRODID:-//Refresh Web Development//Helios Calendar//EN
X-FROM-URL:https://www.bayareascience.org/calendar/index.php?com=details&eID=32782
X-WR-RELCALID:BayAreaScience.org ACS San Francisco Bay Chapter 2021 Grant Recipients Present their Cetacean Research - Livestream 20221115T190000
X-WR-TIMEZONE:America/New_York
X-WR-CALNAME:BayAreaScience.org
BEGIN:VEVENT
URL;VALUE=URI:https://www.bayareascience.org/calendar/index.php?com=detail&eID=32782
DTSTART:20221115T190000
DTEND:20221115T203000
SUMMARY:ACS San Francisco Bay Chapter 2021 Grant Recipients Present their Cetacean Research - Livestream
DESCRIPTION:In December 2021\, through the generous support of individual donors like you\, the American Cetacean Society San Francisco Bay Chapter was thrilled to award cetacean research grants to three emerging...\n______________________________\nThis Event Downloaded From a Helios Calendar Powered Site
LOCATION:American Cetacean Society -  \, \, CA  
CATEGORIES:BayAreaScience.org Events
PRIORITY:0
TRANSP:TRANSPARENT
END:VEVENT
END:VCALENDAR