BEGIN:VCALENDAR
VERSION:2.0
METHOD:PUBLISH
CALSCALE:GREGORIAN
PRODID:-//Refresh Web Development//Helios Calendar//EN
X-FROM-URL:https://www.bayareascience.org/calendar/index.php?com=details&eID=32785
X-WR-RELCALID:BayAreaScience.org Wonderfest: High Hopes: The Thirty Meter Telescope - Livestream 20221102T200000
X-WR-TIMEZONE:America/New_York
X-WR-CALNAME:BayAreaScience.org
BEGIN:VEVENT
URL;VALUE=URI:https://www.bayareascience.org/calendar/index.php?com=detail&eID=32785
DTSTART:20221102T200000
DTEND:20221102T210000
SUMMARY:Wonderfest: High Hopes: The Thirty Meter Telescope - Livestream
DESCRIPTION:Â Sometimes\,...\n______________________________\nThis Event Downloaded From a Helios Calendar Powered Site
LOCATION:Wonderfest -  \, \, CA  
CATEGORIES:BayAreaScience.org Events
PRIORITY:0
TRANSP:TRANSPARENT
END:VEVENT
END:VCALENDAR