BEGIN:VCALENDAR
VERSION:2.0
METHOD:PUBLISH
CALSCALE:GREGORIAN
PRODID:-//Refresh Web Development//Helios Calendar//EN
X-FROM-URL:https://www.bayareascience.org/calendar/index.php?com=details&eID=32788
X-WR-RELCALID:BayAreaScience.org Science from Across the Solar System and Beyond: NASAâ€™s Deep Space Network - Livestream 20220919T180000
X-WR-TIMEZONE:America/New_York
X-WR-CALNAME:BayAreaScience.org
BEGIN:VEVENT
URL;VALUE=URI:https://www.bayareascience.org/calendar/index.php?com=detail&eID=32788
DTSTART:20220919T180000
DTEND:20220919T180000
SUMMARY:Science from Across the Solar System and Beyond: NASAâ€™s Deep Space Network - Livestream
DESCRIPTION:Nearly every image of another planet that was taken by a NASA spacecraft has been transmitted to us through one or more antennas of NASAâ€™s Deep Space Network (DSN). For almost the past 60...\n______________________________\nThis Event Downloaded From a Helios Calendar Powered Site
LOCATION:Astronomical Society of the Pacific -  \, \, CA  
CATEGORIES:BayAreaScience.org Events
PRIORITY:0
TRANSP:TRANSPARENT
END:VEVENT
END:VCALENDAR