BEGIN:VCALENDAR
VERSION:2.0
METHOD:PUBLISH
CALSCALE:GREGORIAN
PRODID:-//Refresh Web Development//Helios Calendar//EN
X-FROM-URL:https://www.bayareascience.org/calendar/index.php?com=details&eID=32797
X-WR-RELCALID:BayAreaScience.org Jazz Under the Stars 20221001T193000
X-WR-TIMEZONE:America/New_York
X-WR-CALNAME:BayAreaScience.org
BEGIN:VEVENT
URL;VALUE=URI:https://www.bayareascience.org/calendar/index.php?com=detail&eID=32797
DTSTART:20221001T193000
DTEND:20221001T213000
SUMMARY:Jazz Under the Stars
DESCRIPTION:Jazz Under the StarsÂ is amonthly public stargazing event! Join us on the 4th floor planetarium for a night of smooth jazz\, bright stars\, and a lot of fun! We play...\n______________________________\nThis Event Downloaded From a Helios Calendar Powered Site
LOCATION:College of San Mateo Bldg 36 - 1700 W Hillsdale Rd \, San Mateo\, CA USA 94402
CATEGORIES:BayAreaScience.org Events
PRIORITY:0
TRANSP:TRANSPARENT
END:VEVENT
END:VCALENDAR