BEGIN:VCALENDAR
VERSION:2.0
METHOD:PUBLISH
CALSCALE:GREGORIAN
PRODID:-//Refresh Web Development//Helios Calendar//EN
X-FROM-URL:https://www.bayareascience.org/calendar/index.php?com=details&eID=32799
X-WR-RELCALID:BayAreaScience.org Family Science Day at College of San Mateo 20220924T120000
X-WR-TIMEZONE:America/New_York
X-WR-CALNAME:BayAreaScience.org
BEGIN:VEVENT
URL;VALUE=URI:https://www.bayareascience.org/calendar/index.php?com=detail&eID=32799
DTSTART:20220924T120000
DTEND:20220924T230000
SUMMARY:Family Science Day at College of San Mateo
DESCRIPTION:Event Schedule:12:00 - 6:00 PM: Science Workshops and planetarium shows in Science Building 36. Science demonstrations by CSM faculty\; astronomy workshops by SMCAS\, SLAC\,...\n______________________________\nThis Event Downloaded From a Helios Calendar Powered Site
LOCATION:College of San Mateo - 1700 W Hillsdale Blvd \, San Mateo\, CA USA 94402
CATEGORIES:BayAreaScience.org Events
PRIORITY:0
TRANSP:TRANSPARENT
END:VEVENT
END:VCALENDAR