BEGIN:VCALENDAR
VERSION:2.0
METHOD:PUBLISH
CALSCALE:GREGORIAN
PRODID:-//Refresh Web Development//Helios Calendar//EN
X-FROM-URL:https://www.bayareascience.org/calendar/index.php?com=details&eID=32801
X-WR-RELCALID:BayAreaScience.org  Cosmology and astrophysics with the extragalactic light: background and fluctuations 20220919T110000
X-WR-TIMEZONE:America/New_York
X-WR-CALNAME:BayAreaScience.org
BEGIN:VEVENT
URL;VALUE=URI:https://www.bayareascience.org/calendar/index.php?com=detail&eID=32801
DTSTART:20220919T110000
DTEND:20220919T120000
SUMMARY: Cosmology and astrophysics with the extragalactic light: background and fluctuations
DESCRIPTION:The aggregate light emitted by all extragalactic sources can be measured either as an absolute intensity or through its spatial fluctuations\; these are known as line-intensity mapping (LIM) when...\n______________________________\nThis Event Downloaded From a Helios Calendar Powered Site
LOCATION:Varian Physics Building - 382 Via Pueblo Mall Room 355\, Stanford\, CA  94305
CATEGORIES:BayAreaScience.org Events
PRIORITY:0
TRANSP:TRANSPARENT
END:VEVENT
END:VCALENDAR