BEGIN:VCALENDAR
VERSION:2.0
METHOD:PUBLISH
CALSCALE:GREGORIAN
PRODID:-//Refresh Web Development//Helios Calendar//EN
X-FROM-URL:https://www.bayareascience.org/calendar/index.php?com=details&eID=32805
X-WR-RELCALID:BayAreaScience.org  Making Science Count: Lessons from an Accidental Marine Scientist - Livestream 20220922T170000
X-WR-TIMEZONE:America/New_York
X-WR-CALNAME:BayAreaScience.org
BEGIN:VEVENT
URL;VALUE=URI:https://www.bayareascience.org/calendar/index.php?com=detail&eID=32805
DTSTART:20220922T170000
DTEND:20220922T183000
SUMMARY: Making Science Count: Lessons from an Accidental Marine Scientist - Livestream
DESCRIPTION:The Coral Triangle is the most diverse marine ecosystem on the planet\, and among the most threatened. Through application of genetics\, genomics\, geology and oceanographic modeling\, we explore the...\n______________________________\nThis Event Downloaded From a Helios Calendar Powered Site
LOCATION:Cafe Scientifique Silicon Valley -  \, \, CA  
CATEGORIES:BayAreaScience.org Events
PRIORITY:0
TRANSP:TRANSPARENT
END:VEVENT
END:VCALENDAR