BEGIN:VCALENDAR
VERSION:2.0
METHOD:PUBLISH
CALSCALE:GREGORIAN
PRODID:-//Refresh Web Development//Helios Calendar//EN
X-FROM-URL:https://www.bayareascience.org/calendar/index.php?com=details&eID=32806
X-WR-RELCALID:BayAreaScience.org Social Media and the Havoc on Our Minds - Livestream 20220922T150000
X-WR-TIMEZONE:America/New_York
X-WR-CALNAME:BayAreaScience.org
BEGIN:VEVENT
URL;VALUE=URI:https://www.bayareascience.org/calendar/index.php?com=detail&eID=32806
DTSTART:20220922T150000
DTEND:20220922T150000
SUMMARY:Social Media and the Havoc on Our Minds - Livestream
DESCRIPTION:Do we really understand the reach and impact that social media has on our lives? We all have a vague sense that social media can be bad for our minds\, for our children\, and for our democracies....\n______________________________\nThis Event Downloaded From a Helios Calendar Powered Site
LOCATION:Commonwealth Club - Online Event -  \, \, CA  
CATEGORIES:BayAreaScience.org Events
PRIORITY:0
TRANSP:TRANSPARENT
END:VEVENT
END:VCALENDAR