BEGIN:VCALENDAR
VERSION:2.0
METHOD:PUBLISH
CALSCALE:GREGORIAN
PRODID:-//Refresh Web Development//Helios Calendar//EN
X-FROM-URL:https://www.bayareascience.org/calendar/index.php?com=details&eID=32807
X-WR-RELCALID:BayAreaScience.org After Dark: Risk 20221006T180000
X-WR-TIMEZONE:America/New_York
X-WR-CALNAME:BayAreaScience.org
BEGIN:VEVENT
URL;VALUE=URI:https://www.bayareascience.org/calendar/index.php?com=detail&eID=32807
DTSTART:20221006T180000
DTEND:20221006T220000
SUMMARY:After Dark: Risk
DESCRIPTION:Are you willing to risk it? Everyone has a threshold when it comes to the chances theyâ€™re willing to take. From confronting superstitions to facing fears\, calculating the difference between...\n______________________________\nThis Event Downloaded From a Helios Calendar Powered Site
LOCATION:ExplOratorium - Pier 15 (Embarcadero at Green Street)  \, San Francisco\, CA USA 94111
CATEGORIES:BayAreaScience.org Events
PRIORITY:0
TRANSP:TRANSPARENT
END:VEVENT
END:VCALENDAR