BEGIN:VCALENDAR
VERSION:2.0
METHOD:PUBLISH
CALSCALE:GREGORIAN
PRODID:-//Refresh Web Development//Helios Calendar//EN
X-FROM-URL:https://www.bayareascience.org/calendar/index.php?com=details&eID=32812
X-WR-RELCALID:BayAreaScience.org Raindrops to Streamflow: The Pathways of Water Through a Central Coast California Landscape - Livestream 20221016T133000
X-WR-TIMEZONE:America/New_York
X-WR-CALNAME:BayAreaScience.org
BEGIN:VEVENT
URL;VALUE=URI:https://www.bayareascience.org/calendar/index.php?com=detail&eID=32812
DTSTART:20221016T133000
DTEND:20221016T143000
SUMMARY:Raindrops to Streamflow: The Pathways of Water Through a Central Coast California Landscape - Livestream
DESCRIPTION:When a raindrop falls from the sky\, it can take many different routes through soil\, rock\, and groundwater before re-emerging at the surface in a river or stream. Understanding how water moves through...\n______________________________\nThis Event Downloaded From a Helios Calendar Powered Site
LOCATION:Seymour Marine Discovery Center -  \, \, CA  
CATEGORIES:BayAreaScience.org Events
PRIORITY:0
TRANSP:TRANSPARENT
END:VEVENT
END:VCALENDAR