BEGIN:VCALENDAR
VERSION:2.0
METHOD:PUBLISH
CALSCALE:GREGORIAN
PRODID:-//Refresh Web Development//Helios Calendar//EN
X-FROM-URL:https://www.bayareascience.org/calendar/index.php?com=details&eID=32815
X-WR-RELCALID:BayAreaScience.org Cybersecurity Futures 2030: Looking Around the Corner 20220927T170000
X-WR-TIMEZONE:America/New_York
X-WR-CALNAME:BayAreaScience.org
BEGIN:VEVENT
URL;VALUE=URI:https://www.bayareascience.org/calendar/index.php?com=detail&eID=32815
DTSTART:20220927T170000
DTEND:20220927T190000
SUMMARY:Cybersecurity Futures 2030: Looking Around the Corner
DESCRIPTION:The need for long-term strategic foresight in cybersecurity has never been greater.The emergence of Web 3.0. A proliferation of inexpensive tools available to cyber criminals and malicious...\n______________________________\nThis Event Downloaded From a Helios Calendar Powered Site
LOCATION:swissnex San Francisco - The Embarcadero Pier 17\, Suite 800\, San Francisco\, CA  94111
CATEGORIES:BayAreaScience.org Events
PRIORITY:0
TRANSP:TRANSPARENT
END:VEVENT
END:VCALENDAR