BEGIN:VCALENDAR
VERSION:2.0
METHOD:PUBLISH
CALSCALE:GREGORIAN
PRODID:-//Refresh Web Development//Helios Calendar//EN
X-FROM-URL:https://www.bayareascience.org/calendar/index.php?com=details&eID=32819
X-WR-RELCALID:BayAreaScience.org Next Steps on Climate: Putting a Price on Carbon 20221019T190000
X-WR-TIMEZONE:America/New_York
X-WR-CALNAME:BayAreaScience.org
BEGIN:VEVENT
URL;VALUE=URI:https://www.bayareascience.org/calendar/index.php?com=detail&eID=32819
DTSTART:20221019T190000
DTEND:20221019T213000
SUMMARY:Next Steps on Climate: Putting a Price on Carbon
DESCRIPTION:The Inflation Reduction Act will go a long way toward cutting US greenhouse gas emissions. But it wonâ€™t get us to net-zero by 2030. We need to ramp up our ambitions to help keep 1.5Â°C...\n______________________________\nThis Event Downloaded From a Helios Calendar Powered Site
LOCATION:David Brower Center - 2150 Allston Way \, Berkeley\, CA  94704
CATEGORIES:BayAreaScience.org Events
PRIORITY:0
TRANSP:TRANSPARENT
END:VEVENT
END:VCALENDAR