BEGIN:VCALENDAR
VERSION:2.0
METHOD:PUBLISH
CALSCALE:GREGORIAN
PRODID:-//Refresh Web Development//Helios Calendar//EN
X-FROM-URL:https://www.bayareascience.org/calendar/index.php?com=details&eID=32824
X-WR-RELCALID:BayAreaScience.org Inside the Giants: behind the scenes of the gaseous planets interior models industry 20220930T120000
X-WR-TIMEZONE:America/New_York
X-WR-CALNAME:BayAreaScience.org
BEGIN:VEVENT
URL;VALUE=URI:https://www.bayareascience.org/calendar/index.php?com=detail&eID=32824
DTSTART:20220930T120000
DTEND:20220930T120000
SUMMARY:Inside the Giants: behind the scenes of the gaseous planets interior models industry
DESCRIPTION:Speaker: Naor Movshovitz\, UC Santa Cruz\n______________________________\nThis Event Downloaded From a Helios Calendar Powered Site
LOCATION:Earth and Marine Sciences Building - UC Santa Cruz Room A340\, Santa Cruz\, CA  95064
CATEGORIES:BayAreaScience.org Events
PRIORITY:0
TRANSP:TRANSPARENT
END:VEVENT
END:VCALENDAR