BEGIN:VCALENDAR
VERSION:2.0
METHOD:PUBLISH
CALSCALE:GREGORIAN
PRODID:-//Refresh Web Development//Helios Calendar//EN
X-FROM-URL:https://www.bayareascience.org/calendar/index.php?com=details&eID=32826
X-WR-RELCALID:BayAreaScience.org KQED Live: Art & Tech in a Warming World with The New York Times 20221011T190000
X-WR-TIMEZONE:America/New_York
X-WR-CALNAME:BayAreaScience.org
BEGIN:VEVENT
URL;VALUE=URI:https://www.bayareascience.org/calendar/index.php?com=detail&eID=32826
DTSTART:20221011T190000
DTEND:20221011T210000
SUMMARY:KQED Live: Art & Tech in a Warming World with The New York Times
DESCRIPTION:From global warming models rendered as haunting musical compositions to augmented reality games designed to confront us with the disparate impacts of climate change for those most vulnerable\, art...\n______________________________\nThis Event Downloaded From a Helios Calendar Powered Site
LOCATION:KQED\, The Commons - 2601 Mariposa Street \, San Francisco\, CA  94110
CATEGORIES:BayAreaScience.org Events
PRIORITY:0
TRANSP:TRANSPARENT
END:VEVENT
END:VCALENDAR