BEGIN:VCALENDAR
VERSION:2.0
METHOD:PUBLISH
CALSCALE:GREGORIAN
PRODID:-//Refresh Web Development//Helios Calendar//EN
X-FROM-URL:https://www.bayareascience.org/calendar/index.php?com=details&eID=32828
X-WR-RELCALID:BayAreaScience.org A New Climate conference - Livestream 20221012T090000
X-WR-TIMEZONE:America/New_York
X-WR-CALNAME:BayAreaScience.org
BEGIN:VEVENT
URL;VALUE=URI:https://www.bayareascience.org/calendar/index.php?com=detail&eID=32828
DTSTART:20221012T090000
DTEND:20221012T183000
SUMMARY:A New Climate conference - Livestream
DESCRIPTION:Technology has transformed our lives\, but in spite of its many promises\, it hasn't yet saved us from the perils of a warming climate. Shifts in society have often come from art\, but will they be...\n______________________________\nThis Event Downloaded From a Helios Calendar Powered Site
LOCATION:The New York Times -  \, \, CA  
CATEGORIES:BayAreaScience.org Events
PRIORITY:0
TRANSP:TRANSPARENT
END:VEVENT
END:VCALENDAR