BEGIN:VCALENDAR
VERSION:2.0
METHOD:PUBLISH
CALSCALE:GREGORIAN
PRODID:-//Refresh Web Development//Helios Calendar//EN
X-FROM-URL:https://www.bayareascience.org/calendar/index.php?com=details&eID=32832
X-WR-RELCALID:BayAreaScience.org  Probes of galaxy interactions: from the Magellanic Stream to lensed supernovae 20220926T110000
X-WR-TIMEZONE:America/New_York
X-WR-CALNAME:BayAreaScience.org
BEGIN:VEVENT
URL;VALUE=URI:https://www.bayareascience.org/calendar/index.php?com=detail&eID=32832
DTSTART:20220926T110000
DTEND:20220926T120000
SUMMARY: Probes of galaxy interactions: from the Magellanic Stream to lensed supernovae
DESCRIPTION:We have been working on a variety of projects\, which are generally connected by trying to understand the distributions of dark matter. First\, we used hydrodynamic simulations of the Magellanic...\n______________________________\nThis Event Downloaded From a Helios Calendar Powered Site
LOCATION:Varian Physics Building - 382 Via Pueblo Mall Room 355\, Stanford\, CA  94305
CATEGORIES:BayAreaScience.org Events
PRIORITY:0
TRANSP:TRANSPARENT
END:VEVENT
END:VCALENDAR