BEGIN:VCALENDAR
VERSION:2.0
METHOD:PUBLISH
CALSCALE:GREGORIAN
PRODID:-//Refresh Web Development//Helios Calendar//EN
X-FROM-URL:https://www.bayareascience.org/calendar/index.php?com=details&eID=32844
X-WR-RELCALID:BayAreaScience.org Planet formation in disks around young stars - Livestream 20221015T200000
X-WR-TIMEZONE:America/New_York
X-WR-CALNAME:BayAreaScience.org
BEGIN:VEVENT
URL;VALUE=URI:https://www.bayareascience.org/calendar/index.php?com=detail&eID=32844
DTSTART:20221015T200000
DTEND:20221015T213000
SUMMARY:Planet formation in disks around young stars - Livestream
DESCRIPTION:Stars form in a few million years\, a very short span compared to their billion-year lifetimes. Their formation is initiated by the accumulation of gravitationally collapsing material into a flattened...\n______________________________\nThis Event Downloaded From a Helios Calendar Powered Site
LOCATION:San Jose Astronomical Society -  \, \, CA  
CATEGORIES:BayAreaScience.org Events
PRIORITY:0
TRANSP:TRANSPARENT
END:VEVENT
END:VCALENDAR