BEGIN:VCALENDAR
VERSION:2.0
METHOD:PUBLISH
CALSCALE:GREGORIAN
PRODID:-//Refresh Web Development//Helios Calendar//EN
X-FROM-URL:https://www.bayareascience.org/calendar/index.php?com=details&eID=32847
X-WR-RELCALID:BayAreaScience.org Two Talks: Popping the Science Bubble - Livestream 20221018T173000
X-WR-TIMEZONE:America/New_York
X-WR-CALNAME:BayAreaScience.org
BEGIN:VEVENT
URL;VALUE=URI:https://www.bayareascience.org/calendar/index.php?com=detail&eID=32847
DTSTART:20221018T173000
DTEND:20221018T183000
SUMMARY:Two Talks: Popping the Science Bubble - Livestream
DESCRIPTION:Representation in Research: Who we study and why it mattersScience is an important tool we use to answer questions about who we are\, the world we live in\, and how to improve...\n______________________________\nThis Event Downloaded From a Helios Calendar Powered Site
LOCATION:Berkeley Public Library -  \, \, CA  
CATEGORIES:BayAreaScience.org Events
PRIORITY:0
TRANSP:TRANSPARENT
END:VEVENT
END:VCALENDAR