BEGIN:VCALENDAR
VERSION:2.0
METHOD:PUBLISH
CALSCALE:GREGORIAN
PRODID:-//Refresh Web Development//Helios Calendar//EN
X-FROM-URL:https://www.bayareascience.org/calendar/index.php?com=details&eID=32852
X-WR-RELCALID:BayAreaScience.org  Fishbowls, Fentanyl Test Strips, Patient Navigators: One Hospital's Team-Based Response to the Overdose Epidemic 20221011T173000
X-WR-TIMEZONE:America/New_York
X-WR-CALNAME:BayAreaScience.org
BEGIN:VEVENT
URL;VALUE=URI:https://www.bayareascience.org/calendar/index.php?com=detail&eID=32852
DTSTART:20221011T173000
DTEND:20221011T173000
SUMMARY: Fishbowls\, Fentanyl Test Strips\, Patient Navigators: One Hospital's Team-Based Response to the Overdose Epidemic
DESCRIPTION:\n______________________________\nThis Event Downloaded From a Helios Calendar Powered Site
LOCATION:Commonwealth Club - 110 The Embarcadero \, San Francisco\, CA  94105
CATEGORIES:BayAreaScience.org Events
PRIORITY:0
TRANSP:TRANSPARENT
END:VEVENT
END:VCALENDAR