BEGIN:VCALENDAR
VERSION:2.0
METHOD:PUBLISH
CALSCALE:GREGORIAN
PRODID:-//Refresh Web Development//Helios Calendar//EN
X-FROM-URL:https://www.bayareascience.org/calendar/index.php?com=details&eID=32859
X-WR-RELCALID:BayAreaScience.org Decoding Diatoms: The unusual nutrient metabolism underlying their ecological dominance - Livestream 20221102T110000
X-WR-TIMEZONE:America/New_York
X-WR-CALNAME:BayAreaScience.org
BEGIN:VEVENT
URL;VALUE=URI:https://www.bayareascience.org/calendar/index.php?com=detail&eID=32859
DTSTART:20221102T110000
DTEND:20221102T110000
SUMMARY:Decoding Diatoms: The unusual nutrient metabolism underlying their ecological dominance - Livestream
DESCRIPTION:In the nearly...\n______________________________\nThis Event Downloaded From a Helios Calendar Powered Site
LOCATION:Monterey Bay Aquarium Research Institute -  \, \, CA  
CATEGORIES:BayAreaScience.org Events
PRIORITY:0
TRANSP:TRANSPARENT
END:VEVENT
END:VCALENDAR