BEGIN:VCALENDAR
VERSION:2.0
METHOD:PUBLISH
CALSCALE:GREGORIAN
PRODID:-//Refresh Web Development//Helios Calendar//EN
X-FROM-URL:https://www.bayareascience.org/calendar/index.php?com=details&eID=32867
X-WR-RELCALID:BayAreaScience.org NightSchool: Rocktoberfest - Livestream 20221020T190000
X-WR-TIMEZONE:America/New_York
X-WR-CALNAME:BayAreaScience.org
BEGIN:VEVENT
URL;VALUE=URI:https://www.bayareascience.org/calendar/index.php?com=detail&eID=32867
DTSTART:20221020T190000
DTEND:20221020T190000
SUMMARY:NightSchool: Rocktoberfest - Livestream
DESCRIPTION:Weâ€™re throwing a mini-festival celebrating the ground beneath your feet. Dig into the mineral world with a diverse slate of guests who approach their work via scientific collections\, illustration\,...\n______________________________\nThis Event Downloaded From a Helios Calendar Powered Site
LOCATION:California Academy of Sciences -  \, \, CA  
CATEGORIES:BayAreaScience.org Events
PRIORITY:0
TRANSP:TRANSPARENT
END:VEVENT
END:VCALENDAR