BEGIN:VCALENDAR
VERSION:2.0
METHOD:PUBLISH
CALSCALE:GREGORIAN
PRODID:-//Refresh Web Development//Helios Calendar//EN
X-FROM-URL:https://www.bayareascience.org/calendar/index.php?com=details&eID=32870
X-WR-RELCALID:BayAreaScience.org Goodbye Gas, Hello EVs! - Livestream 20221027T190000
X-WR-TIMEZONE:America/New_York
X-WR-CALNAME:BayAreaScience.org
BEGIN:VEVENT
URL;VALUE=URI:https://www.bayareascience.org/calendar/index.php?com=detail&eID=32870
DTSTART:20221027T190000
DTEND:20221027T200000
SUMMARY:Goodbye Gas\, Hello EVs! - Livestream
DESCRIPTION:Everybodyâ€™s talking about electric vehicles right now - with good reason! EVs donâ€™t pollute\, cost less to fuel and maintain\, and play a major role in fighting climate change. New...\n______________________________\nThis Event Downloaded From a Helios Calendar Powered Site
LOCATION:Acterra -  \, \, CA  
CATEGORIES:BayAreaScience.org Events
PRIORITY:0
TRANSP:TRANSPARENT
END:VEVENT
END:VCALENDAR