BEGIN:VCALENDAR
VERSION:2.0
METHOD:PUBLISH
CALSCALE:GREGORIAN
PRODID:-//Refresh Web Development//Helios Calendar//EN
X-FROM-URL:https://www.bayareascience.org/calendar/index.php?com=details&eID=32871
X-WR-RELCALID:BayAreaScience.org Christian Schwarz, co-author of â€œMushrooms of the Redwood Coastâ€ 20221005T180000
X-WR-TIMEZONE:America/New_York
X-WR-CALNAME:BayAreaScience.org
BEGIN:VEVENT
URL;VALUE=URI:https://www.bayareascience.org/calendar/index.php?com=detail&eID=32871
DTSTART:20221005T180000
DTEND:20221005T200000
SUMMARY:Christian Schwarz\, co-author of â€œMushrooms of the Redwood Coastâ€
DESCRIPTION:\n______________________________\nThis Event Downloaded From a Helios Calendar Powered Site
LOCATION:Mill Valley Public Library - 375 Throckmorton Ave \, Mill Valley\, CA  94941
CATEGORIES:BayAreaScience.org Events
PRIORITY:0
TRANSP:TRANSPARENT
END:VEVENT
END:VCALENDAR