BEGIN:VCALENDAR
VERSION:2.0
METHOD:PUBLISH
CALSCALE:GREGORIAN
PRODID:-//Refresh Web Development//Helios Calendar//EN
X-FROM-URL:https://www.bayareascience.org/calendar/index.php?com=details&eID=32876
X-WR-RELCALID:BayAreaScience.org Tensor Processing Units (TPUs) as scientific supercomputers 20221024T161500
X-WR-TIMEZONE:America/New_York
X-WR-CALNAME:BayAreaScience.org
BEGIN:VEVENT
URL;VALUE=URI:https://www.bayareascience.org/calendar/index.php?com=detail&eID=32876
DTSTART:20221024T161500
DTEND:20221024T171500
SUMMARY:Tensor Processing Units (TPUs) as scientific supercomputers
DESCRIPTION:Google's TPUs were exclusively designed to accelerate and scale up machine learning workloads\, amid the ongoing planet-wide race to build faster specialized hardware for artificial intelligence....\n______________________________\nThis Event Downloaded From a Helios Calendar Powered Site
LOCATION:Physics North - UC Berkeley Room 1\, Berkeley\, CA  94720
CATEGORIES:BayAreaScience.org Events
PRIORITY:0
TRANSP:TRANSPARENT
END:VEVENT
END:VCALENDAR