BEGIN:VCALENDAR
VERSION:2.0
METHOD:PUBLISH
CALSCALE:GREGORIAN
PRODID:-//Refresh Web Development//Helios Calendar//EN
X-FROM-URL:https://www.bayareascience.org/calendar/index.php?com=details&eID=32877
X-WR-RELCALID:BayAreaScience.org Autumn Arachnids! 20221008T150000
X-WR-TIMEZONE:America/New_York
X-WR-CALNAME:BayAreaScience.org
BEGIN:VEVENT
URL;VALUE=URI:https://www.bayareascience.org/calendar/index.php?com=detail&eID=32877
DTSTART:20221008T150000
DTEND:20221008T163000
SUMMARY:Autumn Arachnids!
DESCRIPTION:Come on a short walk and search for autumn arachnids! You'll learn why spiders and scorpions are beneficial friends! Rain cancels. Meet at the Visitor Center. \n______________________________\nThis Event Downloaded From a Helios Calendar Powered Site
LOCATION:Tilden Nature Area Environmental Center - 600 Canon Dr North end of Central Park Drive\, Berkeley\, CA USA 94708
CATEGORIES:BayAreaScience.org Events
PRIORITY:0
TRANSP:TRANSPARENT
END:VEVENT
END:VCALENDAR