BEGIN:VCALENDAR
VERSION:2.0
METHOD:PUBLISH
CALSCALE:GREGORIAN
PRODID:-//Refresh Web Development//Helios Calendar//EN
X-FROM-URL:https://www.bayareascience.org/calendar/index.php?com=details&eID=32886
X-WR-RELCALID:BayAreaScience.org Wonderfest: Neuroplasticity, Sensitive Periods, & the Adolescent Brain 20230131T190000
X-WR-TIMEZONE:America/New_York
X-WR-CALNAME:BayAreaScience.org
BEGIN:VEVENT
URL;VALUE=URI:https://www.bayareascience.org/calendar/index.php?com=detail&eID=32886
DTSTART:20230131T190000
DTEND:20230131T203000
SUMMARY:Wonderfest: Neuroplasticity\, Sensitive Periods\, & the Adolescent Brain
DESCRIPTION:Experiences at different times in life may alter aspects of personality: appetite for risk\, tolerance for delayed gratification\, interest in music\, etc. Our brains seem to develop particularly...\n______________________________\nThis Event Downloaded From a Helios Calendar Powered Site
LOCATION:Hopmonk Tavern - Session Room 224 Vintage Way\, Novato\, CA  94945
CATEGORIES:BayAreaScience.org Events
PRIORITY:0
TRANSP:TRANSPARENT
END:VEVENT
END:VCALENDAR