BEGIN:VCALENDAR
VERSION:2.0
METHOD:PUBLISH
CALSCALE:GREGORIAN
PRODID:-//Refresh Web Development//Helios Calendar//EN
X-FROM-URL:https://www.bayareascience.org/calendar/index.php?com=details&eID=32892
X-WR-RELCALID:BayAreaScience.org Stanford Symbolic Systems 2022 Summer Research Poster Fair 20221010T123000
X-WR-TIMEZONE:America/New_York
X-WR-CALNAME:BayAreaScience.org
BEGIN:VEVENT
URL;VALUE=URI:https://www.bayareascience.org/calendar/index.php?com=detail&eID=32892
DTSTART:20221010T123000
DTEND:20221010T132000
SUMMARY:Stanford Symbolic Systems 2022 Summer Research Poster Fair
DESCRIPTION:12:30 Welcome and Brief Poster Introductions 12:35 Poster Presentations:Hawi Abraham (mentor: Chris Chafe\, Music)Shaunak Bhandarkar\,...\n______________________________\nThis Event Downloaded From a Helios Calendar Powered Site
LOCATION:Stanford University - Philosophy Courtyard Between Bldgs 370 and 380\, Stanford\, CA  94305
CATEGORIES:BayAreaScience.org Events
PRIORITY:0
TRANSP:TRANSPARENT
END:VEVENT
END:VCALENDAR