BEGIN:VCALENDAR
VERSION:2.0
METHOD:PUBLISH
CALSCALE:GREGORIAN
PRODID:-//Refresh Web Development//Helios Calendar//EN
X-FROM-URL:https://www.bayareascience.org/calendar/index.php?com=details&eID=32893
X-WR-RELCALID:BayAreaScience.org Voices in the Code: A Story About People, Their Values, and the Algorithm They Made 20221010T120000
X-WR-TIMEZONE:America/New_York
X-WR-CALNAME:BayAreaScience.org
BEGIN:VEVENT
URL;VALUE=URI:https://www.bayareascience.org/calendar/index.php?com=detail&eID=32893
DTSTART:20221010T120000
DTEND:20221010T133000
SUMMARY:Voices in the Code: A Story About People\, Their Values\, and the Algorithm They Made
DESCRIPTION:CLTC is co-sponsoring an October 10 â€œAuthors Meet Criticsâ€ panel about the book Voices in the Code: A Story About...\n______________________________\nThis Event Downloaded From a Helios Calendar Powered Site
LOCATION:Social Sciences Building Room 820 - UC Berkeley \, Berkeley\, CA  94720
CATEGORIES:BayAreaScience.org Events
PRIORITY:0
TRANSP:TRANSPARENT
END:VEVENT
END:VCALENDAR