BEGIN:VCALENDAR
VERSION:2.0
METHOD:PUBLISH
CALSCALE:GREGORIAN
PRODID:-//Refresh Web Development//Helios Calendar//EN
X-FROM-URL:https://www.bayareascience.org/calendar/index.php?com=details&eID=32895
X-WR-RELCALID:BayAreaScience.org Science at Cal - The Road to Vehicle Electrification - Livestream 20221117T120000
X-WR-TIMEZONE:America/New_York
X-WR-CALNAME:BayAreaScience.org
BEGIN:VEVENT
URL;VALUE=URI:https://www.bayareascience.org/calendar/index.php?com=detail&eID=32895
DTSTART:20221117T120000
DTEND:20221117T133000
SUMMARY:Science at Cal - The Road to Vehicle Electrification - Livestream
DESCRIPTION:This August\, California announced groundbreaking plans to phase out the production of traditional gas-powered cars by 2035. Reports show that\, with the right policies\, it is technically and economically...\n______________________________\nThis Event Downloaded From a Helios Calendar Powered Site
LOCATION:UC Berkeley -  \, \, CA  
CATEGORIES:BayAreaScience.org Events
PRIORITY:0
TRANSP:TRANSPARENT
END:VEVENT
END:VCALENDAR