BEGIN:VCALENDAR
VERSION:2.0
METHOD:PUBLISH
CALSCALE:GREGORIAN
PRODID:-//Refresh Web Development//Helios Calendar//EN
X-FROM-URL:https://www.bayareascience.org/calendar/index.php?com=details&eID=32910
X-WR-RELCALID:BayAreaScience.org End-User Auditing and Model Sketching: Tools for Centering Human Values in Machine Learning Model Authoring and Evaluation 20221024T123000
X-WR-TIMEZONE:America/New_York
X-WR-CALNAME:BayAreaScience.org
BEGIN:VEVENT
URL;VALUE=URI:https://www.bayareascience.org/calendar/index.php?com=detail&eID=32910
DTSTART:20221024T123000
DTEND:20221024T132000
SUMMARY:End-User Auditing and Model Sketching: Tools for Centering Human Values in Machine Learning Model Authoring and Evaluation
DESCRIPTION:\n______________________________\nThis Event Downloaded From a Helios Calendar Powered Site
LOCATION:Margaret Jacks Hall (Bldg 460) - Stanford University 450 Serra Mall\, Stanford\, CA  94305
CATEGORIES:BayAreaScience.org Events
PRIORITY:0
TRANSP:TRANSPARENT
END:VEVENT
END:VCALENDAR