BEGIN:VCALENDAR
VERSION:2.0
METHOD:PUBLISH
CALSCALE:GREGORIAN
PRODID:-//Refresh Web Development//Helios Calendar//EN
X-FROM-URL:https://www.bayareascience.org/calendar/index.php?com=details&eID=32912
X-WR-RELCALID:BayAreaScience.org A DAO-First World 20221027T160000
X-WR-TIMEZONE:America/New_York
X-WR-CALNAME:BayAreaScience.org
BEGIN:VEVENT
URL;VALUE=URI:https://www.bayareascience.org/calendar/index.php?com=detail&eID=32912
DTSTART:20221027T160000
DTEND:20221027T180000
SUMMARY:A DAO-First World
DESCRIPTION:Blockchain technology has transformed the financial services industry over the past decade. The rise of cryptocurrencies and non-fungible tokens (NFTs) highlights shifts in how people\, organizations\,...\n______________________________\nThis Event Downloaded From a Helios Calendar Powered Site
LOCATION:Faculty Club - UC Berkeley Seaborg Room\, Berkeley\, CA  94720
CATEGORIES:BayAreaScience.org Events
PRIORITY:0
TRANSP:TRANSPARENT
END:VEVENT
END:VCALENDAR