BEGIN:VCALENDAR
VERSION:2.0
METHOD:PUBLISH
CALSCALE:GREGORIAN
PRODID:-//Refresh Web Development//Helios Calendar//EN
X-FROM-URL:https://www.bayareascience.org/calendar/index.php?com=details&eID=32917
X-WR-RELCALID:BayAreaScience.org Lessons from scale for large language models and quantitative reasoning 20221115T153000
X-WR-TIMEZONE:America/New_York
X-WR-CALNAME:BayAreaScience.org
BEGIN:VEVENT
URL;VALUE=URI:https://www.bayareascience.org/calendar/index.php?com=detail&eID=32917
DTSTART:20221115T153000
DTEND:20221115T153000
SUMMARY:Lessons from scale for large language models and quantitative reasoning
DESCRIPTION:Large language models trained on diverse training data have shown impressive results on many tasks involving natural language -- in many cases matching or exceeding humanÂ performance. Some measures...\n______________________________\nThis Event Downloaded From a Helios Calendar Powered Site
LOCATION:Hewlett Teaching Center - 370 Jane Stanford Way\, Room 200 Stanford University\, Stanford\, CA  94305
CATEGORIES:BayAreaScience.org Events
PRIORITY:0
TRANSP:TRANSPARENT
END:VEVENT
END:VCALENDAR