BEGIN:VCALENDAR
VERSION:2.0
METHOD:PUBLISH
CALSCALE:GREGORIAN
PRODID:-//Refresh Web Development//Helios Calendar//EN
X-FROM-URL:https://www.bayareascience.org/calendar/index.php?com=details&eID=32924
X-WR-RELCALID:BayAreaScience.org Geminids Meteor Shower 20221214T000000
X-WR-TIMEZONE:America/New_York
X-WR-CALNAME:BayAreaScience.org
BEGIN:VEVENT
URL;VALUE=URI:https://www.bayareascience.org/calendar/index.php?com=detail&eID=32924
DTSTART:20221214T000000
DTEND:20221214T030000
SUMMARY:Geminids Meteor Shower
DESCRIPTION:Join us on our observation decks and be dazzled as we make our annual trip though the Geminids Meteor shower. The Geminids\, named for the radiant or location where the shower appears to originate\,...\n______________________________\nThis Event Downloaded From a Helios Calendar Powered Site
LOCATION:Chabot Space and Science Center - 10000 Skyline Blvd \, Oakland\, CA USA 94619
CATEGORIES:BayAreaScience.org Events
PRIORITY:0
TRANSP:TRANSPARENT
END:VEVENT
END:VCALENDAR