BEGIN:VCALENDAR
VERSION:2.0
METHOD:PUBLISH
CALSCALE:GREGORIAN
PRODID:-//Refresh Web Development//Helios Calendar//EN
X-FROM-URL:https://www.bayareascience.org/calendar/index.php?com=details&eID=32925
X-WR-RELCALID:BayAreaScience.org How We Can Live with Fire: Lessons Learned from Californiaâ€™s Investments in Wildfire Resilience 20221104T160000
X-WR-TIMEZONE:America/New_York
X-WR-CALNAME:BayAreaScience.org
BEGIN:VEVENT
URL;VALUE=URI:https://www.bayareascience.org/calendar/index.php?com=detail&eID=32925
DTSTART:20221104T160000
DTEND:20221104T173000
SUMMARY:How We Can Live with Fire: Lessons Learned from Californiaâ€™s Investments in Wildfire Resilience
DESCRIPTION:California is investing $2.8 Billion in wildfire resilience over three years - one of the largest investments to prevent catastrophic wildfire ever. Deputy Secretary More will discuss the current...\n______________________________\nThis Event Downloaded From a Helios Calendar Powered Site
LOCATION:Mulford Hall - UC Berkeley Room 159\, Berkeley\, CA  94720
CATEGORIES:BayAreaScience.org Events
PRIORITY:0
TRANSP:TRANSPARENT
END:VEVENT
END:VCALENDAR