BEGIN:VCALENDAR
VERSION:2.0
METHOD:PUBLISH
CALSCALE:GREGORIAN
PRODID:-//Refresh Web Development//Helios Calendar//EN
X-FROM-URL:https://www.bayareascience.org/calendar/index.php?com=details&eID=32928
X-WR-RELCALID:BayAreaScience.org  The Milky Way's Dynamic Atmosphere 20221103T110000
X-WR-TIMEZONE:America/New_York
X-WR-CALNAME:BayAreaScience.org
BEGIN:VEVENT
URL;VALUE=URI:https://www.bayareascience.org/calendar/index.php?com=detail&eID=32928
DTSTART:20221103T110000
DTEND:20221103T120000
SUMMARY: The Milky Way's Dynamic Atmosphere
DESCRIPTION:The Galactic atmosphere is as essential to setting the global conditions in the Milky Way as our planet's atmosphere is for sustaining life on Earth. Dramatic\, multiphase gas flows course through...\n______________________________\nThis Event Downloaded From a Helios Calendar Powered Site
LOCATION:Kavli Institute Astrophysics Colloquium - Physics and Astrophysics Building Room 102/103 452 Lomita Mall\, Stanford\, CA  94305
CATEGORIES:BayAreaScience.org Events
PRIORITY:0
TRANSP:TRANSPARENT
END:VEVENT
END:VCALENDAR