BEGIN:VCALENDAR
VERSION:2.0
METHOD:PUBLISH
CALSCALE:GREGORIAN
PRODID:-//Refresh Web Development//Helios Calendar//EN
X-FROM-URL:https://www.bayareascience.org/calendar/index.php?com=details&eID=32930
X-WR-RELCALID:BayAreaScience.org I Need Space A conversation with artist Jordan Holmes - Livestream 20221020T143000
X-WR-TIMEZONE:America/New_York
X-WR-CALNAME:BayAreaScience.org
BEGIN:VEVENT
URL;VALUE=URI:https://www.bayareascience.org/calendar/index.php?com=detail&eID=32930
DTSTART:20221020T143000
DTEND:20221020T150000
SUMMARY:I Need Space A conversation with artist Jordan Holmes - Livestream
DESCRIPTION:How does creativity connect art and science? Artist Jordan Holmes and scientist Ann Marie Cody have been collaborating on the creation of music videos that feature stunning astronomical images....\n______________________________\nThis Event Downloaded From a Helios Calendar Powered Site
LOCATION:SETI Institute -  \, \, CA  
CATEGORIES:BayAreaScience.org Events
PRIORITY:0
TRANSP:TRANSPARENT
END:VEVENT
END:VCALENDAR