BEGIN:VCALENDAR
VERSION:2.0
METHOD:PUBLISH
CALSCALE:GREGORIAN
PRODID:-//Refresh Web Development//Helios Calendar//EN
X-FROM-URL:https://www.bayareascience.org/calendar/index.php?com=details&eID=32936
X-WR-RELCALID:BayAreaScience.org  What it Will Take to Prevent the Next Big One: Pandemics, Planetary Health and Our Global Future  20221110T170000
X-WR-TIMEZONE:America/New_York
X-WR-CALNAME:BayAreaScience.org
BEGIN:VEVENT
URL;VALUE=URI:https://www.bayareascience.org/calendar/index.php?com=detail&eID=32936
DTSTART:20221110T170000
DTEND:20221110T190000
SUMMARY: What it Will Take to Prevent the Next Big One: Pandemics\, Planetary Health and Our Global Future 
DESCRIPTION:Please join us for an evening with Pulitzer Prize winning journalist and UC Santa Cruz alumna Laurie Garrett (Merrill 75). Named by the New York Times â€œCassandraâ€ for predicting the...\n______________________________\nThis Event Downloaded From a Helios Calendar Powered Site
LOCATION:Hay Barn - 1008 Ranch View Rd \, Santa Cruz\, CA  95064
CATEGORIES:BayAreaScience.org Events
PRIORITY:0
TRANSP:TRANSPARENT
END:VEVENT
END:VCALENDAR